BEGIN:VCALENDAR
VERSION:2.0
PRODID:-//LA Rope - ECPv6.15.20//NONSGML v1.0//EN
CALSCALE:GREGORIAN
METHOD:PUBLISH
X-WR-CALNAME:LA Rope
X-ORIGINAL-URL:https://www.laropedojo.com
X-WR-CALDESC:Events for LA Rope
REFRESH-INTERVAL;VALUE=DURATION:PT1H
X-Robots-Tag:noindex
X-PUBLISHED-TTL:PT1H
BEGIN:VTIMEZONE
TZID:America/Los_Angeles
BEGIN:DAYLIGHT
TZOFFSETFROM:-0800
TZOFFSETTO:-0700
TZNAME:PDT
DTSTART:20220313T100000
END:DAYLIGHT
BEGIN:STANDARD
TZOFFSETFROM:-0700
TZOFFSETTO:-0800
TZNAME:PST
DTSTART:20221106T090000
END:STANDARD
BEGIN:DAYLIGHT
TZOFFSETFROM:-0800
TZOFFSETTO:-0700
TZNAME:PDT
DTSTART:20230312T100000
END:DAYLIGHT
BEGIN:STANDARD
TZOFFSETFROM:-0700
TZOFFSETTO:-0800
TZNAME:PST
DTSTART:20231105T090000
END:STANDARD
BEGIN:DAYLIGHT
TZOFFSETFROM:-0800
TZOFFSETTO:-0700
TZNAME:PDT
DTSTART:20240310T100000
END:DAYLIGHT
BEGIN:STANDARD
TZOFFSETFROM:-0700
TZOFFSETTO:-0800
TZNAME:PST
DTSTART:20241103T090000
END:STANDARD
END:VTIMEZONE
BEGIN:VEVENT
DTSTART;TZID=America/Los_Angeles:20231003T200000
DTEND;TZID=America/Los_Angeles:20231003T220000
DTSTAMP:20260420T001745
CREATED:20230817T202905Z
LAST-MODIFIED:20230817T202905Z
UID:27366-1696363200-1696370400@www.laropedojo.com
SUMMARY:Beginner's Class: Hands in Front Ties
DESCRIPTION:Rope Play or Nawa Asobi is held each Tuesday of the month from 8 to 10 at the LA Rope Dojo. This class is our introductory class which covers background and history\, rope information\, and two basic ties. \nThis class focuses on the fundamentals and is perfect for the beginner. The previous intro class is recommended by not required. \nBeginners always welcome. We have rope to loan for class as well as for purchase. It is recommended you come with a partner. Individuals are welcome but we can not guarantee a tying partner will be available. \nCost: $25 per person\, in advance. No tickets at the door. If you are buying as a couple\, please order together as this event always sells out and we cannot admit over our capacity once class is full. \nTickets are for this event only and cannot be refunded once purchased.
URL:https://www.laropedojo.com/event/beginners-class-hands-in-front-ties-21/
LOCATION:LA Rope: Dojo Space\, 4406 W. 2nd St. #202\, Los Angeles\, CA\, 90004\, United States
CATEGORIES:Classes
ATTACH;FMTTYPE=image/jpeg:https://www.laropedojo.com/wp-content/uploads/2014/08/DT-Gote-5a.jpg
ORGANIZER;CN="LA Rope Dojo":MAILTO:laropedojo@gmail.com
END:VEVENT
BEGIN:VEVENT
DTSTART;TZID=America/Los_Angeles:20231017T200000
DTEND;TZID=America/Los_Angeles:20231017T220000
DTSTAMP:20260420T001745
CREATED:20230817T202732Z
LAST-MODIFIED:20230817T202900Z
UID:27365-1697572800-1697580000@www.laropedojo.com
SUMMARY:Beginner's Class: Hands Behind Ties
DESCRIPTION:Rope Play or Nawa Asobi is held each Tuesday of the month from 8 to 10 at the LA Rope Dojo. This class is our introductory class which covers background and history\, rope information\, and two basic ties. \nThis class focuses on the fundamentals and is perfect for the beginner. \nBeginners always welcome. We have rope to loan for class as well as for purchase. It is recommended you come with a partner. Individuals are welcome but we can not guarantee a tying partner will be available. \nCost: $25 per person\, in advance. No tickets at the door. If you are buying as a couple\, please order together as this event always sells out and we cannot admit over our capacity once class is full. \nTickets are for this event only and cannot be refunded once purchased.
URL:https://www.laropedojo.com/event/beginners-class-hands-behind-ties-19/
LOCATION:LA Rope: Dojo Space\, 4406 W. 2nd St. #202\, Los Angeles\, CA\, 90004\, United States
CATEGORIES:Classes
ATTACH;FMTTYPE=image/jpeg:https://www.laropedojo.com/wp-content/uploads/2014/08/DT-Gote-5a.jpg
ORGANIZER;CN="LA Rope Dojo":MAILTO:laropedojo@gmail.com
END:VEVENT
BEGIN:VEVENT
DTSTART;TZID=America/Los_Angeles:20231024T200000
DTEND;TZID=America/Los_Angeles:20231024T220000
DTSTAMP:20260420T001745
CREATED:20230912T151224Z
LAST-MODIFIED:20230912T151224Z
UID:27416-1698177600-1698184800@www.laropedojo.com
SUMMARY:Building a Rope Scene: Rope\, Communication\, and Play
DESCRIPTION:Much shibari instruction focuses on technique or instruction\, usually limited to single ties or transitions between them. In this class\, we will walk through the basics of how to construct a rope scene from before the ropes go on to after they come off. \nOne of the most powerful aspects of kinbaku is the ability to create layers of intensity\, allowing the bottom to build up a natural flow of endorphins and adrenaline\, allowing the scene to reach deeper levels. We will discuss the process of building your scene\, bringing the various elements together\, and the psychology of a rope scene\, including connection\, communication\, distance\, and pacing. \nThe class is mainly lecture\, viewing and discussion.  There is 20-30 mins at the end of class to tie and try some of the things discussed in lecture. \nA great rope scene is more than the sum of its parts. Join us for a discussion of some of the tips and techniques that can help you think about connecting with your partner in new ways. \nThis class is suitable for all levels\, from beginner to advanced.  Knowing at least one basic tie will be helpful\, but is not required. \nCost: $25 per person\, in advance. No tickets at the door. If you are buying as a couple\, please order together as this event always sells out and we cannot admit over our capacity once class is full. \nTickets are for this event only and cannot be refunded once purchased.
URL:https://www.laropedojo.com/event/building-a-rope-scene-rope-communication-and-play-5/
LOCATION:LA Rope: Dojo Space\, 4406 W. 2nd St. #202\, Los Angeles\, CA\, 90004\, United States
CATEGORIES:Classes
ATTACH;FMTTYPE=image/jpeg:https://www.laropedojo.com/wp-content/uploads/2016/03/DT-Gote-4.jpg
ORGANIZER;CN="LA Rope Dojo":MAILTO:laropedojo@gmail.com
END:VEVENT
END:VCALENDAR