BEGIN:VCALENDAR
VERSION:2.0
PRODID:-//LA Rope - ECPv6.15.20//NONSGML v1.0//EN
CALSCALE:GREGORIAN
METHOD:PUBLISH
X-ORIGINAL-URL:https://www.laropedojo.com
X-WR-CALDESC:Events for LA Rope
REFRESH-INTERVAL;VALUE=DURATION:PT1H
X-Robots-Tag:noindex
X-PUBLISHED-TTL:PT1H
BEGIN:VTIMEZONE
TZID:America/Los_Angeles
BEGIN:DAYLIGHT
TZOFFSETFROM:-0800
TZOFFSETTO:-0700
TZNAME:PDT
DTSTART:20220313T100000
END:DAYLIGHT
BEGIN:STANDARD
TZOFFSETFROM:-0700
TZOFFSETTO:-0800
TZNAME:PST
DTSTART:20221106T090000
END:STANDARD
BEGIN:DAYLIGHT
TZOFFSETFROM:-0800
TZOFFSETTO:-0700
TZNAME:PDT
DTSTART:20230312T100000
END:DAYLIGHT
BEGIN:STANDARD
TZOFFSETFROM:-0700
TZOFFSETTO:-0800
TZNAME:PST
DTSTART:20231105T090000
END:STANDARD
BEGIN:DAYLIGHT
TZOFFSETFROM:-0800
TZOFFSETTO:-0700
TZNAME:PDT
DTSTART:20240310T100000
END:DAYLIGHT
BEGIN:STANDARD
TZOFFSETFROM:-0700
TZOFFSETTO:-0800
TZNAME:PST
DTSTART:20241103T090000
END:STANDARD
END:VTIMEZONE
BEGIN:VEVENT
DTSTART;TZID=America/Los_Angeles:20230404T200000
DTEND;TZID=America/Los_Angeles:20230404T220000
DTSTAMP:20260419T153238
CREATED:20230216T213718Z
LAST-MODIFIED:20230405T011551Z
UID:26417-1680638400-1680645600@www.laropedojo.com
SUMMARY:Beginner's Class: Hands in Front Ties
DESCRIPTION:Following CDC guidelines\, all attendees will be required to show proof being at least 2 week past their final vaccination date. \nRope Play or Nawa Asobi is held each Tuesday of the month from 8 to 10 at the LA Rope Dojo. This class is our introductory class which covers background and history\, rope information\, and two basic ties. \nThis class focuses on the fundamentals and is perfect for the beginner. The previous intro class is recommended by not required. \nBeginners always welcome. We have rope to loan for class as well as for purchase. It is recommended you come with a partner. Individuals are welcome but we can not guarantee a tying partner will be available. \nCost: $25 per person\, in advance. No tickets at the door. If you are buying as a couple\, please order together as this event always sells out and we cannot admit over our capacity once class is full. \nTickets are for this event only and cannot be refunded once purchased.\n\nProof of vaccination is required.
URL:https://www.laropedojo.com/event/beginners-class-hands-in-front-ties-15/
LOCATION:LA Rope: Dojo Space\, 4406 W. 2nd St. #202\, Los Angeles\, CA\, 90004\, United States
CATEGORIES:Classes
ATTACH;FMTTYPE=image/jpeg:https://www.laropedojo.com/wp-content/uploads/2014/08/DT-Gote-5a.jpg
ORGANIZER;CN="LA Rope Dojo":MAILTO:laropedojo@gmail.com
END:VEVENT
BEGIN:VEVENT
DTSTART;TZID=America/Los_Angeles:20230411T200000
DTEND;TZID=America/Los_Angeles:20230411T220000
DTSTAMP:20260419T153238
CREATED:20230216T213826Z
LAST-MODIFIED:20230405T011005Z
UID:26420-1681243200-1681250400@www.laropedojo.com
SUMMARY:Beginner's Class: Hands Behind Ties
DESCRIPTION:Following CDC guidelines\, all attendees will be required to show proof being at least 2 week past their final vaccination date. \nRope Play or Nawa Asobi is held each Tuesday of the month from 8 to 10 at the LA Rope Dojo. This class is our introductory class which covers background and history\, rope information\, and two basic ties. \nThis class focuses on the fundamentals and is perfect for the beginner. \nBeginners always welcome. We have rope to loan for class as well as for purchase. It is recommended you come with a partner. Individuals are welcome but we can not guarantee a tying partner will be available. \nCost: $25 per person\, in advance. No tickets at the door. If you are buying as a couple\, please order together as this event always sells out and we cannot admit over our capacity once class is full. \nTickets are for this event only and cannot be refunded once purchased.\n\nProof of vaccination is required.
URL:https://www.laropedojo.com/event/beginners-class-hands-behind-ties-13/
LOCATION:LA Rope: Dojo Space\, 4406 W. 2nd St. #202\, Los Angeles\, CA\, 90004\, United States
CATEGORIES:Classes
ATTACH;FMTTYPE=image/jpeg:https://www.laropedojo.com/wp-content/uploads/2014/08/DT-Gote-5a.jpg
ORGANIZER;CN="LA Rope Dojo":MAILTO:laropedojo@gmail.com
END:VEVENT
BEGIN:VEVENT
DTSTART;TZID=America/Los_Angeles:20230415T150000
DTEND;TZID=America/Los_Angeles:20230415T220000
DTSTAMP:20260419T153238
CREATED:20230323T205740Z
LAST-MODIFIED:20230323T205740Z
UID:26653-1681570800-1681596000@www.laropedojo.com
SUMMARY:Shibari for Sex: Rope Class\, BBQ\, and Play Party
DESCRIPTION:As traditionally practiced in Japan\, shibari is primarily considered an erotic activity.  This class emphasises that erotic nature of rope bondage\, focusing on three different ties that can be used for sex.  Attendees should be comfortable with explicit discussions of sexuality and display of nudity.  The class is open to all genders\, orientations\, and body types.  BDSM Mentors is sex positive and LGBTQIA+ inclusive. \nThe three ties that will be explored are: \n\nMomo Shibari (Peach Tie)\nKani Shibari (Crab Tie)\nTengu Shibari (Heavenly Dog with leg ties)\n\nStudents should bring their own rope (4 lengths of 8m rope\, natural fiber such as jute\, hemp\, or cotton) as well as something suitable as a floor covering (yoga mat\, blanket\, comforter).  We will have rope for sale at the event ($20 a length) and a limited number of yoga mats (first come first served) that can be used in the space. \nThe class will be held from 3:00 to 5:00\, with plenty of time for play and practice.  In the interest of time\, we ask that couples not switch during class\, though there may be time to do during the practice time at the end. \nFollowing the class\, BDSM Mentors will host a BBQ (Hamburgers and Hot Dogs with some sides) until 7:00 p.m. \nAt 7:00\, our Rope Party will begin and last as long as people want to stay and play.  This is a great opportunity to try out the new ties or engage in any other BDSM play you want to engage in. \nThe class will be taught by Zetsu\, the owner and operator of LA Rope\, an experienced shibari instructor who trained in Japan under Grandmaster Yukimura Haruki.  He has been teaching shibari since 2011 in Los Angeles. \nThe class is open to all members of the BDSM community and is a LGBTIAQ+ inclusive event.  All ties are suitable for all bodies\, genders\, and orientations.
URL:https://www.laropedojo.com/event/shibari-for-sex-rope-class-bbq-and-play-party/
LOCATION:BDSM Mentors\, Kester Ave.\, Van Nuys\, CA\, 91406\, United States
CATEGORIES:Classes
ATTACH;FMTTYPE=image/jpeg:https://www.laropedojo.com/wp-content/uploads/2021/07/P1040412BW2.jpg
END:VEVENT
END:VCALENDAR