BEGIN:VCALENDAR
VERSION:2.0
PRODID:-//LA Rope - ECPv6.15.20//NONSGML v1.0//EN
CALSCALE:GREGORIAN
METHOD:PUBLISH
X-WR-CALNAME:LA Rope
X-ORIGINAL-URL:https://www.laropedojo.com
X-WR-CALDESC:Events for LA Rope
REFRESH-INTERVAL;VALUE=DURATION:PT1H
X-Robots-Tag:noindex
X-PUBLISHED-TTL:PT1H
BEGIN:VTIMEZONE
TZID:America/Los_Angeles
BEGIN:DAYLIGHT
TZOFFSETFROM:-0800
TZOFFSETTO:-0700
TZNAME:PDT
DTSTART:20220313T100000
END:DAYLIGHT
BEGIN:STANDARD
TZOFFSETFROM:-0700
TZOFFSETTO:-0800
TZNAME:PST
DTSTART:20221106T090000
END:STANDARD
BEGIN:DAYLIGHT
TZOFFSETFROM:-0800
TZOFFSETTO:-0700
TZNAME:PDT
DTSTART:20230312T100000
END:DAYLIGHT
BEGIN:STANDARD
TZOFFSETFROM:-0700
TZOFFSETTO:-0800
TZNAME:PST
DTSTART:20231105T090000
END:STANDARD
BEGIN:DAYLIGHT
TZOFFSETFROM:-0800
TZOFFSETTO:-0700
TZNAME:PDT
DTSTART:20240310T100000
END:DAYLIGHT
BEGIN:STANDARD
TZOFFSETFROM:-0700
TZOFFSETTO:-0800
TZNAME:PST
DTSTART:20241103T090000
END:STANDARD
END:VTIMEZONE
BEGIN:VEVENT
DTSTART;TZID=America/Los_Angeles:20230919T200000
DTEND;TZID=America/Los_Angeles:20230919T220000
DTSTAMP:20260420T001746
CREATED:20230729T153158Z
LAST-MODIFIED:20230729T153158Z
UID:27277-1695153600-1695160800@www.laropedojo.com
SUMMARY:Intermediate Class: Emotion and Communication
DESCRIPTION:This class will focus on taking your ties to the next level.  We will use four basic ties to create a progression with particular attention to how to create a sense of anticipation\, layering\, and surprise in a tying session. \nWe will spend the first hour working through a set progression\, with the second half of the class focused on having students create their own progression\, using their favorite ties. \nLimited to five couples. \nStudents should have basic experience with Yukimura style ties\, from either the Hands In Front Class or the Hands Behind Class. \n\nTickets are for this event only and cannot be refunded once purchased.
URL:https://www.laropedojo.com/event/intermediate-class-emotion-and-communication/
LOCATION:LA Rope: Dojo Space\, 4406 W. 2nd St. #202\, Los Angeles\, CA\, 90004\, United States
CATEGORIES:Classes,Intermediate Workshops
ATTACH;FMTTYPE=image/jpeg:https://www.laropedojo.com/wp-content/uploads/2016/03/DT-Gote-4.jpg
ORGANIZER;CN="LA Rope Dojo":MAILTO:laropedojo@gmail.com
END:VEVENT
END:VCALENDAR