BEGIN:VCALENDAR
VERSION:2.0
PRODID:-//LA Rope - ECPv6.15.20//NONSGML v1.0//EN
CALSCALE:GREGORIAN
METHOD:PUBLISH
X-ORIGINAL-URL:https://www.laropedojo.com
X-WR-CALDESC:Events for LA Rope
REFRESH-INTERVAL;VALUE=DURATION:PT1H
X-Robots-Tag:noindex
X-PUBLISHED-TTL:PT1H
BEGIN:VTIMEZONE
TZID:America/Los_Angeles
BEGIN:DAYLIGHT
TZOFFSETFROM:-0800
TZOFFSETTO:-0700
TZNAME:PDT
DTSTART:20220313T100000
END:DAYLIGHT
BEGIN:STANDARD
TZOFFSETFROM:-0700
TZOFFSETTO:-0800
TZNAME:PST
DTSTART:20221106T090000
END:STANDARD
BEGIN:DAYLIGHT
TZOFFSETFROM:-0800
TZOFFSETTO:-0700
TZNAME:PDT
DTSTART:20230312T100000
END:DAYLIGHT
BEGIN:STANDARD
TZOFFSETFROM:-0700
TZOFFSETTO:-0800
TZNAME:PST
DTSTART:20231105T090000
END:STANDARD
BEGIN:DAYLIGHT
TZOFFSETFROM:-0800
TZOFFSETTO:-0700
TZNAME:PDT
DTSTART:20240310T100000
END:DAYLIGHT
BEGIN:STANDARD
TZOFFSETFROM:-0700
TZOFFSETTO:-0800
TZNAME:PST
DTSTART:20241103T090000
END:STANDARD
END:VTIMEZONE
BEGIN:VEVENT
DTSTART;TZID=America/Los_Angeles:20230126T190000
DTEND;TZID=America/Los_Angeles:20230126T220000
DTSTAMP:20260419T130326
CREATED:20230105T195203Z
LAST-MODIFIED:20230105T195203Z
UID:25918-1674759600-1674770400@www.laropedojo.com
SUMMARY:Rope Night (Free Event)
DESCRIPTION:Rope Night is a free event.  You do need to register/RSVP. \nPlease do not RSVP if you are not able to attend.  The event is scheduled for three hours\, but feel free to visit anytime during the event. \nThere is no program or schedule for the evening. \nThis is a social and tying event\, where people are encouraged to drop by\, see the dojo\, get refreshers on ties you may be working on or things you may have forgotten or had questions about. \nI will be playing rope videos\, have rope for sale\, and will be available for questions and discussion. \nIf you are new to rope and wish to experience being tied in a safe environment\, please reach out in advance.
URL:https://www.laropedojo.com/event/rope-night-free-event/
LOCATION:LA Rope: Dojo Space\, 4406 W. 2nd St. #202\, Los Angeles\, CA\, 90004\, United States
CATEGORIES:Social
ATTACH;FMTTYPE=image/jpeg:https://www.laropedojo.com/wp-content/uploads/2019/06/dojo.jpg
ORGANIZER;CN="LA Rope Dojo":MAILTO:laropedojo@gmail.com
END:VEVENT
END:VCALENDAR