BEGIN:VCALENDAR
VERSION:2.0
PRODID:-//LA Rope - ECPv6.15.20//NONSGML v1.0//EN
CALSCALE:GREGORIAN
METHOD:PUBLISH
X-WR-CALNAME:LA Rope
X-ORIGINAL-URL:https://www.laropedojo.com
X-WR-CALDESC:Events for LA Rope
REFRESH-INTERVAL;VALUE=DURATION:PT1H
X-Robots-Tag:noindex
X-PUBLISHED-TTL:PT1H
BEGIN:VTIMEZONE
TZID:America/Los_Angeles
BEGIN:DAYLIGHT
TZOFFSETFROM:-0800
TZOFFSETTO:-0700
TZNAME:PDT
DTSTART:20220313T100000
END:DAYLIGHT
BEGIN:STANDARD
TZOFFSETFROM:-0700
TZOFFSETTO:-0800
TZNAME:PST
DTSTART:20221106T090000
END:STANDARD
BEGIN:DAYLIGHT
TZOFFSETFROM:-0800
TZOFFSETTO:-0700
TZNAME:PDT
DTSTART:20230312T100000
END:DAYLIGHT
BEGIN:STANDARD
TZOFFSETFROM:-0700
TZOFFSETTO:-0800
TZNAME:PST
DTSTART:20231105T090000
END:STANDARD
BEGIN:DAYLIGHT
TZOFFSETFROM:-0800
TZOFFSETTO:-0700
TZNAME:PDT
DTSTART:20240310T100000
END:DAYLIGHT
BEGIN:STANDARD
TZOFFSETFROM:-0700
TZOFFSETTO:-0800
TZNAME:PST
DTSTART:20241103T090000
END:STANDARD
END:VTIMEZONE
BEGIN:VEVENT
DTSTART;TZID=America/Los_Angeles:20230124T200000
DTEND;TZID=America/Los_Angeles:20230124T220000
DTSTAMP:20260419T130121
CREATED:20221207T012228Z
LAST-MODIFIED:20221207T174403Z
UID:25200-1674590400-1674597600@www.laropedojo.com
SUMMARY:Special Topics: Yukimura Stye Predicament Ties
DESCRIPTION:This is a class on crotch ropes/ties and neck rope (Matanawa\, 股縄\, Kubi Nawa\, 首縄).  One common technique in Yukimura’s style of shibari involves the concept of connection or linking (Renketsu\, 連結) different parts of the body together to emphasize eroticism and control. \nLike most Yukimura ties\, the constructions are basic and simple\, but the ties gain power from how they create a strong emotional and psychological effect. \nOne of the key techniques for doing that is connecting different parts of a tie together and two of the best places to do that are with crotch ropes and neck ties\, which have the effect of giving every movement an erotic charge or connection. \nThis class introduces both the philosophy and technique of “linking” to show how you can create simple ties with powerful effect\, with the basic constructions all being one rope ties. \nFor this class we will explore six different ties that show various methods for linking and connecting part of the body together. \nStudents must be comfortable with crotch ties (e.g. having rope between the legs)\, neck rope\, and engaging with erotic elements of shibari. \nThis is an intermediate level class and requires a basic understanding of wrists ties\, body positioning\, and effective communication between partners. \nStudents should come prepared with at least one 8m rope to be used for crotch ties or be prepared to purchase one at the dojo (rope is available for $20 per length for 5mm or 6mm rope). \n 
URL:https://www.laropedojo.com/event/special-topics-yukimura-stye-predicament-ties/
LOCATION:LA Rope: Dojo Space\, 4406 W. 2nd St. #202\, Los Angeles\, CA\, 90004\, United States
CATEGORIES:Classes,Intermediate Workshops
ATTACH;FMTTYPE=image/jpeg:https://www.laropedojo.com/wp-content/uploads/2016/03/DT-Gote-2a.jpg
ORGANIZER;CN="LA Rope Dojo":MAILTO:laropedojo@gmail.com
END:VEVENT
END:VCALENDAR